BEGIN:VCALENDAR
VERSION:2.0
PRODID:-//Greg Baerns Music Official Site - ECPv6.15.20//NONSGML v1.0//EN
CALSCALE:GREGORIAN
METHOD:PUBLISH
X-ORIGINAL-URL:https://gregbaerns.com
X-WR-CALDESC:Events for Greg Baerns Music Official Site
REFRESH-INTERVAL;VALUE=DURATION:PT1H
X-Robots-Tag:noindex
X-PUBLISHED-TTL:PT1H
BEGIN:VTIMEZONE
TZID:America/Denver
BEGIN:DAYLIGHT
TZOFFSETFROM:-0700
TZOFFSETTO:-0600
TZNAME:MDT
DTSTART:20230312T090000
END:DAYLIGHT
BEGIN:STANDARD
TZOFFSETFROM:-0600
TZOFFSETTO:-0700
TZNAME:MST
DTSTART:20231105T080000
END:STANDARD
BEGIN:DAYLIGHT
TZOFFSETFROM:-0700
TZOFFSETTO:-0600
TZNAME:MDT
DTSTART:20240310T090000
END:DAYLIGHT
BEGIN:STANDARD
TZOFFSETFROM:-0600
TZOFFSETTO:-0700
TZNAME:MST
DTSTART:20241103T080000
END:STANDARD
BEGIN:DAYLIGHT
TZOFFSETFROM:-0700
TZOFFSETTO:-0600
TZNAME:MDT
DTSTART:20250309T090000
END:DAYLIGHT
BEGIN:STANDARD
TZOFFSETFROM:-0600
TZOFFSETTO:-0700
TZNAME:MST
DTSTART:20251102T080000
END:STANDARD
END:VTIMEZONE
BEGIN:VEVENT
DTSTART;TZID=America/Denver:20240914T110000
DTEND;TZID=America/Denver:20240914T150000
DTSTAMP:20260424T125021
CREATED:20240721T230821Z
LAST-MODIFIED:20240721T230821Z
UID:492-1726311600-1726326000@gregbaerns.com
SUMMARY:Greg at Green Valley Ranch Town Center Park Amphitheater
DESCRIPTION:Greg will be performing at the GVR Town Center Park Amphitheater at the Light in the Valley Harvest Fest. There will be live music\, a car and motorcycle show\, food trucks\, street vendors\, axe throwing\, pumpkin and face painting\, arts and crafts\, and more!
URL:https://gregbaerns.com/event/greg-at-green-valley-ranch-town-center-park-amphitheater/
LOCATION:Green Valley Ranch Town Center Park Amphitheater\, 4892 Argonne St\, Denver\, CO\, 80249\, United States
END:VEVENT
BEGIN:VEVENT
DTSTART;TZID=America/Denver:20240920T180000
DTEND;TZID=America/Denver:20240920T180000
DTSTAMP:20260424T125021
CREATED:20240519T223214Z
LAST-MODIFIED:20240910T013820Z
UID:487-1726855200-1726855200@gregbaerns.com
SUMMARY:**CANCELLED** Greg at Kunjani World Coffeehouse (09/20/2024)
DESCRIPTION:Hi all\, this show has been cancelled for the fall season. I’ll be back at Kunjani for some dates starting in April/May 2025. \nPerforming live at Kunjani World Coffee House in Parker CO.
URL:https://gregbaerns.com/event/greg-at-kunjani-world-coffeehouse-09-20-2024/
LOCATION:Kunjani World Coffeehouse\, 10009 Jordan Rd.\, Parker\, CO\, 80134\, United States
END:VEVENT
BEGIN:VEVENT
DTSTART;TZID=America/Denver:20240921T180000
DTEND;TZID=America/Denver:20240921T210000
DTSTAMP:20260424T125021
CREATED:20240902T202442Z
LAST-MODIFIED:20240902T205529Z
UID:496-1726941600-1726952400@gregbaerns.com
SUMMARY:Greg at Rail Yard Gaming + Gastropub (09/21/2024)
DESCRIPTION:Performing live at the Rail Yard Gaming + Gastropub in Colorado Springs. \nFrom the venue website:\n“Welcome to the Rail Yard Gaming + Gastropub\, Colorado Springs’s first social gaming pub and grill! We invite you to come experience the fun of new cutting-edge gaming technology along with classic arcade games. You and your friends can also have a blast smashing pins on one of our eight duckpin bowling lanes! Rail Yard offers a full bar featuring local craft beers\, mixed cocktails and carefully selected wines\, as well as an extensive menu from our full-service kitchen\, including decadent award-winning desserts! You can also enjoy the newest first-run movies next door at our sister venue\, RoadHouse Cinemas! Open 365 days a year!”
URL:https://gregbaerns.com/event/greg-at-rail-yard-gaming-gastropub-09-21-2024/
LOCATION:Rail Yard Gaming and Gastropub\, 3030 N Nevada Ave.\, Colorado Springs\, 80907\, United States
END:VEVENT
END:VCALENDAR