BEGIN:VCALENDAR
VERSION:2.0
PRODID:-//Greg Baerns Music Official Site - ECPv6.15.20//NONSGML v1.0//EN
CALSCALE:GREGORIAN
METHOD:PUBLISH
X-ORIGINAL-URL:https://gregbaerns.com
X-WR-CALDESC:Events for Greg Baerns Music Official Site
REFRESH-INTERVAL;VALUE=DURATION:PT1H
X-Robots-Tag:noindex
X-PUBLISHED-TTL:PT1H
BEGIN:VTIMEZONE
TZID:America/Denver
BEGIN:DAYLIGHT
TZOFFSETFROM:-0700
TZOFFSETTO:-0600
TZNAME:MDT
DTSTART:20230312T090000
END:DAYLIGHT
BEGIN:STANDARD
TZOFFSETFROM:-0600
TZOFFSETTO:-0700
TZNAME:MST
DTSTART:20231105T080000
END:STANDARD
BEGIN:DAYLIGHT
TZOFFSETFROM:-0700
TZOFFSETTO:-0600
TZNAME:MDT
DTSTART:20240310T090000
END:DAYLIGHT
BEGIN:STANDARD
TZOFFSETFROM:-0600
TZOFFSETTO:-0700
TZNAME:MST
DTSTART:20241103T080000
END:STANDARD
BEGIN:DAYLIGHT
TZOFFSETFROM:-0700
TZOFFSETTO:-0600
TZNAME:MDT
DTSTART:20250309T090000
END:DAYLIGHT
BEGIN:STANDARD
TZOFFSETFROM:-0600
TZOFFSETTO:-0700
TZNAME:MST
DTSTART:20251102T080000
END:STANDARD
END:VTIMEZONE
BEGIN:VEVENT
DTSTART;TZID=America/Denver:20240608T180000
DTEND;TZID=America/Denver:20240608T210000
DTSTAMP:20260424T170123
CREATED:20240413T150147Z
LAST-MODIFIED:20240415T033943Z
UID:89-1717869600-1717880400@gregbaerns.com
SUMMARY:Greg at Rail Yard Gaming + Gastropub (06/08/2024)
DESCRIPTION:Performing live at the Rail Yard Gaming + Gastropub in Colorado Springs. \nFrom the venue website:\n“Welcome to the Rail Yard Gaming + Gastropub\, Colorado Springs’s first social gaming pub and grill! We invite you to come experience the fun of new cutting-edge gaming technology along with classic arcade games. You and your friends can also have a blast smashing pins on one of our eight duckpin bowling lanes! Rail Yard offers a full bar featuring local craft beers\, mixed cocktails and carefully selected wines\, as well as an extensive menu from our full-service kitchen\, including decadent award-winning desserts! You can also enjoy the newest first-run movies next door at our sister venue\, RoadHouse Cinemas! Open 365 days a year!”
URL:https://gregbaerns.com/event/greg-at-rail-yard-gaming-gastropub-06-08-2024/
LOCATION:Rail Yard Gaming and Gastropub\, 3030 N Nevada Ave.\, Colorado Springs\, 80907\, United States
END:VEVENT
BEGIN:VEVENT
DTSTART;TZID=America/Denver:20240616T144500
DTEND;TZID=America/Denver:20240616T154500
DTSTAMP:20260424T170123
CREATED:20240508T012926Z
LAST-MODIFIED:20240508T021210Z
UID:431-1718549100-1718552700@gregbaerns.com
SUMMARY:Greg at Parker Days Festival (06/16/2024)
DESCRIPTION:I’ll be doing a 45 minute set at Parker Days 2024 on the Community Stage.\n\n\n \nMy daughters will also be singing a few songs! We would love your support!\n\n\n \nThe stage is located between the white chapel (Ruth Chapel) and the old school house.\n\n\n \nFull Community Stage schedule***\, Friday through Sunday. Come support all of the performers!\n\n\n \nFriday16:00 Freebirds17:00 Allegro Rock Bank Camp18:30 Kyle Chatam and Road Shots\n\n \nSaturday10:00 Aerial Arts11:00 E & E Dance Group11:45 Ultimate Z12:30 School of Rock14:00 Ukuele Play Along – Open to Public14:30 Allegro Music Showcase16:00 Pickering Creative Artists Academy17:30 Playback Band19:00 Blues 88 Jazz Band\n\n \nSunday10:00 Ultimate Z10:15 Dancin Deam10:45 TBA11:45 The Spot 2.013:00 School of Rock14:45 Baerns Sister with Greg15:45 Bearistotle17:00 Castle Rock Rockers18:00 Joe Wren Band  \nThank you Allegro Music for being a sponsor of the community stage along with CORE! \n***Subject to change.
URL:https://gregbaerns.com/event/greg-at-parker-days-festival-06-16-2024/
LOCATION:Parker Days Festival\, 19590 Mainstreet\, Parker\, CO\, 80138\, United States
END:VEVENT
BEGIN:VEVENT
DTSTART;TZID=America/Denver:20240621T180000
DTEND;TZID=America/Denver:20240621T180000
DTSTAMP:20260424T170123
CREATED:20240519T220546Z
LAST-MODIFIED:20240519T220546Z
UID:481-1718992800-1718992800@gregbaerns.com
SUMMARY:Greg at Kunjani World Coffeehouse (06/21/2024)
DESCRIPTION:Performing live at Kunjani World Coffee House in Parker CO.
URL:https://gregbaerns.com/event/greg-at-kunjani-world-coffeehouse-06-21-2024/
LOCATION:Kunjani World Coffeehouse\, 10009 Jordan Rd.\, Parker\, CO\, 80134\, United States
END:VEVENT
END:VCALENDAR