BEGIN:VCALENDAR
VERSION:2.0
PRODID:-//Greg Baerns Music Official Site - ECPv6.15.20//NONSGML v1.0//EN
CALSCALE:GREGORIAN
METHOD:PUBLISH
X-WR-CALNAME:Greg Baerns Music Official Site
X-ORIGINAL-URL:https://gregbaerns.com
X-WR-CALDESC:Events for Greg Baerns Music Official Site
REFRESH-INTERVAL;VALUE=DURATION:PT1H
X-Robots-Tag:noindex
X-PUBLISHED-TTL:PT1H
BEGIN:VTIMEZONE
TZID:America/Denver
BEGIN:DAYLIGHT
TZOFFSETFROM:-0700
TZOFFSETTO:-0600
TZNAME:MDT
DTSTART:20250309T090000
END:DAYLIGHT
BEGIN:STANDARD
TZOFFSETFROM:-0600
TZOFFSETTO:-0700
TZNAME:MST
DTSTART:20251102T080000
END:STANDARD
BEGIN:DAYLIGHT
TZOFFSETFROM:-0700
TZOFFSETTO:-0600
TZNAME:MDT
DTSTART:20260308T090000
END:DAYLIGHT
BEGIN:STANDARD
TZOFFSETFROM:-0600
TZOFFSETTO:-0700
TZNAME:MST
DTSTART:20261101T080000
END:STANDARD
BEGIN:DAYLIGHT
TZOFFSETFROM:-0700
TZOFFSETTO:-0600
TZNAME:MDT
DTSTART:20270314T090000
END:DAYLIGHT
BEGIN:STANDARD
TZOFFSETFROM:-0600
TZOFFSETTO:-0700
TZNAME:MST
DTSTART:20271107T080000
END:STANDARD
END:VTIMEZONE
BEGIN:VEVENT
DTSTART;TZID=America/Denver:20260613T163000
DTEND;TZID=America/Denver:20260613T173000
DTSTAMP:20260423T144606
CREATED:20260406T020929Z
LAST-MODIFIED:20260406T021559Z
UID:514-1781368200-1781371800@gregbaerns.com
SUMMARY:Greg at Parker Days Festival (06/13/2026)
DESCRIPTION:Solo set at Parker Days 2026 on the Community Stage from 4:30pm to 5:30pm. The stage is  located between the white chapel (Ruth Chapel) and the old school house.\n\nWould love your support!
URL:https://gregbaerns.com/event/greg-at-parker-days-festival-06-13-2026/
LOCATION:Parker Days Festival\, 19590 Mainstreet\, Parker\, CO\, 80138\, United States
END:VEVENT
BEGIN:VEVENT
DTSTART;TZID=America/Denver:20260725T090000
DTEND;TZID=America/Denver:20260725T150000
DTSTAMP:20260423T144606
CREATED:20260406T021352Z
LAST-MODIFIED:20260406T021523Z
UID:516-1784970000-1784991600@gregbaerns.com
SUMMARY:Greg at Whimsical Wonders Outdoor Market (07/25/2026)
DESCRIPTION:Playing some music in the Parker Senior Center parking lot. All ages welcome! Free admission!
URL:https://gregbaerns.com/event/greg-at-whimsical-wonders-outdoor-market-07-25-2026/
LOCATION:Parker Senior Center\, 10675 Longs Way\, Parker\, CO\, 80138\, United States
END:VEVENT
END:VCALENDAR