BEGIN:VCALENDAR
VERSION:2.0
PRODID:-//Greg Baerns Music Official Site - ECPv6.15.20//NONSGML v1.0//EN
CALSCALE:GREGORIAN
METHOD:PUBLISH
X-WR-CALNAME:Greg Baerns Music Official Site
X-ORIGINAL-URL:https://gregbaerns.com
X-WR-CALDESC:Events for Greg Baerns Music Official Site
REFRESH-INTERVAL;VALUE=DURATION:PT1H
X-Robots-Tag:noindex
X-PUBLISHED-TTL:PT1H
BEGIN:VTIMEZONE
TZID:America/Denver
BEGIN:DAYLIGHT
TZOFFSETFROM:-0700
TZOFFSETTO:-0600
TZNAME:MDT
DTSTART:20230312T090000
END:DAYLIGHT
BEGIN:STANDARD
TZOFFSETFROM:-0600
TZOFFSETTO:-0700
TZNAME:MST
DTSTART:20231105T080000
END:STANDARD
BEGIN:DAYLIGHT
TZOFFSETFROM:-0700
TZOFFSETTO:-0600
TZNAME:MDT
DTSTART:20240310T090000
END:DAYLIGHT
BEGIN:STANDARD
TZOFFSETFROM:-0600
TZOFFSETTO:-0700
TZNAME:MST
DTSTART:20241103T080000
END:STANDARD
BEGIN:DAYLIGHT
TZOFFSETFROM:-0700
TZOFFSETTO:-0600
TZNAME:MDT
DTSTART:20250309T090000
END:DAYLIGHT
BEGIN:STANDARD
TZOFFSETFROM:-0600
TZOFFSETTO:-0700
TZNAME:MST
DTSTART:20251102T080000
END:STANDARD
BEGIN:DAYLIGHT
TZOFFSETFROM:-0700
TZOFFSETTO:-0600
TZNAME:MDT
DTSTART:20260308T090000
END:DAYLIGHT
BEGIN:STANDARD
TZOFFSETFROM:-0600
TZOFFSETTO:-0700
TZNAME:MST
DTSTART:20261101T080000
END:STANDARD
BEGIN:DAYLIGHT
TZOFFSETFROM:-0700
TZOFFSETTO:-0600
TZNAME:MDT
DTSTART:20270314T090000
END:DAYLIGHT
BEGIN:STANDARD
TZOFFSETFROM:-0600
TZOFFSETTO:-0700
TZNAME:MST
DTSTART:20271107T080000
END:STANDARD
END:VTIMEZONE
BEGIN:VTIMEZONE
TZID:UTC
BEGIN:STANDARD
TZOFFSETFROM:+0000
TZOFFSETTO:+0000
TZNAME:UTC
DTSTART:20220101T000000
END:STANDARD
END:VTIMEZONE
BEGIN:VEVENT
DTSTART;TZID=America/Denver:20260307T180000
DTEND;TZID=America/Denver:20260307T210000
DTSTAMP:20260423T173756
CREATED:20251228T000825Z
LAST-MODIFIED:20251228T000825Z
UID:512-1772906400-1772917200@gregbaerns.com
SUMMARY:Greg at Rail Yard Gaming + Gastropub (03/07/2026)
DESCRIPTION:Performing live at the Rail Yard Gaming + Gastropub in Colorado Springs. \nFrom the venue website:\n“Welcome to the Rail Yard Gaming + Gastropub\, Colorado Springs’s first social gaming pub and grill! We invite you to come experience the fun of new cutting-edge gaming technology along with classic arcade games. You and your friends can also have a blast smashing pins on one of our eight duckpin bowling lanes! Rail Yard offers a full bar featuring local craft beers\, mixed cocktails and carefully selected wines\, as well as an extensive menu from our full-service kitchen\, including decadent award-winning desserts! You can also enjoy the newest first-run movies next door at our sister venue\, RoadHouse Cinemas! Open 365 days a year!”
URL:https://gregbaerns.com/event/greg-at-rail-yard-gaming-gastropub-03-07-2026/
LOCATION:Rail Yard Gaming and Gastropub\, 3030 N Nevada Ave.\, Colorado Springs\, 80907\, United States
END:VEVENT
BEGIN:VEVENT
DTSTART;TZID=America/Denver:20251220T180000
DTEND;TZID=America/Denver:20251220T210000
DTSTAMP:20260423T173756
CREATED:20251012T014003Z
LAST-MODIFIED:20251012T014003Z
UID:509-1766253600-1766264400@gregbaerns.com
SUMMARY:Greg at Rail Yard Gaming + Gastropub (12/20/2025)
DESCRIPTION:Performing live at the Rail Yard Gaming + Gastropub in Colorado Springs. \nFrom the venue website:\n“Welcome to the Rail Yard Gaming + Gastropub\, Colorado Springs’s first social gaming pub and grill! We invite you to come experience the fun of new cutting-edge gaming technology along with classic arcade games. You and your friends can also have a blast smashing pins on one of our eight duckpin bowling lanes! Rail Yard offers a full bar featuring local craft beers\, mixed cocktails and carefully selected wines\, as well as an extensive menu from our full-service kitchen\, including decadent award-winning desserts! You can also enjoy the newest first-run movies next door at our sister venue\, RoadHouse Cinemas! Open 365 days a year!”
URL:https://gregbaerns.com/event/greg-at-rail-yard-gaming-gastropub-12-20-2025/
LOCATION:Rail Yard Gaming and Gastropub\, 3030 N Nevada Ave.\, Colorado Springs\, 80907\, United States
END:VEVENT
BEGIN:VEVENT
DTSTART;TZID=America/Denver:20250809T180000
DTEND;TZID=America/Denver:20250809T180000
DTSTAMP:20260423T173756
CREATED:20250615T234822Z
LAST-MODIFIED:20250615T234822Z
UID:506-1754762400-1754762400@gregbaerns.com
SUMMARY:Greg at Rail Yard Gaming + Gastropub (08/09/2025)
DESCRIPTION:Performing live at the Rail Yard Gaming + Gastropub in Colorado Springs. \nFrom the venue website:\n“Welcome to the Rail Yard Gaming + Gastropub\, Colorado Springs’s first social gaming pub and grill! We invite you to come experience the fun of new cutting-edge gaming technology along with classic arcade games. You and your friends can also have a blast smashing pins on one of our eight duckpin bowling lanes! Rail Yard offers a full bar featuring local craft beers\, mixed cocktails and carefully selected wines\, as well as an extensive menu from our full-service kitchen\, including decadent award-winning desserts! You can also enjoy the newest first-run movies next door at our sister venue\, RoadHouse Cinemas! Open 365 days a year!”
URL:https://gregbaerns.com/event/greg-at-rail-yard-gaming-gastropub-08-09-2025/
LOCATION:Rail Yard Gaming and Gastropub\, 3030 N Nevada Ave.\, Colorado Springs\, 80907\, United States
END:VEVENT
BEGIN:VEVENT
DTSTART;TZID=America/Denver:20250607T180000
DTEND;TZID=America/Denver:20250607T210000
DTSTAMP:20260423T173756
CREATED:20250421T023920Z
LAST-MODIFIED:20250421T023920Z
UID:504-1749319200-1749330000@gregbaerns.com
SUMMARY:Greg at Rail Yard Gaming + Gastropub (06/07/2025)
DESCRIPTION:Performing live at the Rail Yard Gaming + Gastropub in Colorado Springs. \nFrom the venue website:\n“Welcome to the Rail Yard Gaming + Gastropub\, Colorado Springs’s first social gaming pub and grill! We invite you to come experience the fun of new cutting-edge gaming technology along with classic arcade games. You and your friends can also have a blast smashing pins on one of our eight duckpin bowling lanes! Rail Yard offers a full bar featuring local craft beers\, mixed cocktails and carefully selected wines\, as well as an extensive menu from our full-service kitchen\, including decadent award-winning desserts! You can also enjoy the newest first-run movies next door at our sister venue\, RoadHouse Cinemas! Open 365 days a year!”
URL:https://gregbaerns.com/event/greg-at-rail-yard-gaming-gastropub-06-07-2025/
LOCATION:Rail Yard Gaming and Gastropub\, 3030 N Nevada Ave.\, Colorado Springs\, 80907\, United States
END:VEVENT
BEGIN:VEVENT
DTSTART;TZID=America/Denver:20250301T180000
DTEND;TZID=America/Denver:20250301T180000
DTSTAMP:20260423T173756
CREATED:20241215T005019Z
LAST-MODIFIED:20241215T005019Z
UID:502-1740852000-1740852000@gregbaerns.com
SUMMARY:Greg at Rail Yard Gaming + Gastropub (03/01/2025)
DESCRIPTION:Performing live at the Rail Yard Gaming + Gastropub in Colorado Springs. \nFrom the venue website:\n“Welcome to the Rail Yard Gaming + Gastropub\, Colorado Springs’s first social gaming pub and grill! We invite you to come experience the fun of new cutting-edge gaming technology along with classic arcade games. You and your friends can also have a blast smashing pins on one of our eight duckpin bowling lanes! Rail Yard offers a full bar featuring local craft beers\, mixed cocktails and carefully selected wines\, as well as an extensive menu from our full-service kitchen\, including decadent award-winning desserts! You can also enjoy the newest first-run movies next door at our sister venue\, RoadHouse Cinemas! Open 365 days a year!”
URL:https://gregbaerns.com/event/greg-at-rail-yard-gaming-gastropub-03-01-2025/
LOCATION:Rail Yard Gaming and Gastropub\, 3030 N Nevada Ave.\, Colorado Springs\, 80907\, United States
END:VEVENT
BEGIN:VEVENT
DTSTART;TZID=America/Denver:20241122T180000
DTEND;TZID=America/Denver:20241122T210000
DTSTAMP:20260423T173756
CREATED:20241009T210025Z
LAST-MODIFIED:20241009T210052Z
UID:499-1732298400-1732309200@gregbaerns.com
SUMMARY:Greg at Rail Yard Gaming + Gastropub (11/22/2024)
DESCRIPTION:Performing live at the Rail Yard Gaming + Gastropub in Colorado Springs. \nFrom the venue website:\n“Welcome to the Rail Yard Gaming + Gastropub\, Colorado Springs’s first social gaming pub and grill! We invite you to come experience the fun of new cutting-edge gaming technology along with classic arcade games. You and your friends can also have a blast smashing pins on one of our eight duckpin bowling lanes! Rail Yard offers a full bar featuring local craft beers\, mixed cocktails and carefully selected wines\, as well as an extensive menu from our full-service kitchen\, including decadent award-winning desserts! You can also enjoy the newest first-run movies next door at our sister venue\, RoadHouse Cinemas! Open 365 days a year!”
URL:https://gregbaerns.com/event/greg-at-rail-yard-gaming-gastropub-11-22-2024/
LOCATION:Rail Yard Gaming and Gastropub\, 3030 N Nevada Ave.\, Colorado Springs\, 80907\, United States
END:VEVENT
BEGIN:VEVENT
DTSTART;TZID=America/Denver:20240921T180000
DTEND;TZID=America/Denver:20240921T210000
DTSTAMP:20260423T173756
CREATED:20240902T202442Z
LAST-MODIFIED:20240902T205529Z
UID:496-1726941600-1726952400@gregbaerns.com
SUMMARY:Greg at Rail Yard Gaming + Gastropub (09/21/2024)
DESCRIPTION:Performing live at the Rail Yard Gaming + Gastropub in Colorado Springs. \nFrom the venue website:\n“Welcome to the Rail Yard Gaming + Gastropub\, Colorado Springs’s first social gaming pub and grill! We invite you to come experience the fun of new cutting-edge gaming technology along with classic arcade games. You and your friends can also have a blast smashing pins on one of our eight duckpin bowling lanes! Rail Yard offers a full bar featuring local craft beers\, mixed cocktails and carefully selected wines\, as well as an extensive menu from our full-service kitchen\, including decadent award-winning desserts! You can also enjoy the newest first-run movies next door at our sister venue\, RoadHouse Cinemas! Open 365 days a year!”
URL:https://gregbaerns.com/event/greg-at-rail-yard-gaming-gastropub-09-21-2024/
LOCATION:Rail Yard Gaming and Gastropub\, 3030 N Nevada Ave.\, Colorado Springs\, 80907\, United States
END:VEVENT
BEGIN:VEVENT
DTSTART;TZID=America/Denver:20240920T180000
DTEND;TZID=America/Denver:20240920T180000
DTSTAMP:20260423T173756
CREATED:20240519T223214Z
LAST-MODIFIED:20240910T013820Z
UID:487-1726855200-1726855200@gregbaerns.com
SUMMARY:**CANCELLED** Greg at Kunjani World Coffeehouse (09/20/2024)
DESCRIPTION:Hi all\, this show has been cancelled for the fall season. I’ll be back at Kunjani for some dates starting in April/May 2025. \nPerforming live at Kunjani World Coffee House in Parker CO.
URL:https://gregbaerns.com/event/greg-at-kunjani-world-coffeehouse-09-20-2024/
LOCATION:Kunjani World Coffeehouse\, 10009 Jordan Rd.\, Parker\, CO\, 80134\, United States
END:VEVENT
BEGIN:VEVENT
DTSTART;TZID=America/Denver:20240914T110000
DTEND;TZID=America/Denver:20240914T150000
DTSTAMP:20260423T173756
CREATED:20240721T230821Z
LAST-MODIFIED:20240721T230821Z
UID:492-1726311600-1726326000@gregbaerns.com
SUMMARY:Greg at Green Valley Ranch Town Center Park Amphitheater
DESCRIPTION:Greg will be performing at the GVR Town Center Park Amphitheater at the Light in the Valley Harvest Fest. There will be live music\, a car and motorcycle show\, food trucks\, street vendors\, axe throwing\, pumpkin and face painting\, arts and crafts\, and more!
URL:https://gregbaerns.com/event/greg-at-green-valley-ranch-town-center-park-amphitheater/
LOCATION:Green Valley Ranch Town Center Park Amphitheater\, 4892 Argonne St\, Denver\, CO\, 80249\, United States
END:VEVENT
BEGIN:VEVENT
DTSTART;TZID=America/Denver:20240824T180000
DTEND;TZID=America/Denver:20240824T210000
DTSTAMP:20260423T173756
CREATED:20240624T021119Z
LAST-MODIFIED:20240902T202359Z
UID:490-1724522400-1724533200@gregbaerns.com
SUMMARY:Greg at Rail Yard Gaming + Gastropub (08/24/2024)
DESCRIPTION:Performing live at the Rail Yard Gaming + Gastropub in Colorado Springs. \nFrom the venue website:\n“Welcome to the Rail Yard Gaming + Gastropub\, Colorado Springs’s first social gaming pub and grill! We invite you to come experience the fun of new cutting-edge gaming technology along with classic arcade games. You and your friends can also have a blast smashing pins on one of our eight duckpin bowling lanes! Rail Yard offers a full bar featuring local craft beers\, mixed cocktails and carefully selected wines\, as well as an extensive menu from our full-service kitchen\, including decadent award-winning desserts! You can also enjoy the newest first-run movies next door at our sister venue\, RoadHouse Cinemas! Open 365 days a year!”
URL:https://gregbaerns.com/event/greg-at-rail-yard-gaming-gastropub-08-24-2024/
LOCATION:Rail Yard Gaming and Gastropub\, 3030 N Nevada Ave.\, Colorado Springs\, 80907\, United States
END:VEVENT
BEGIN:VEVENT
DTSTART;TZID=America/Denver:20240816T180000
DTEND;TZID=America/Denver:20240816T180000
DTSTAMP:20260423T173756
CREATED:20240519T221241Z
LAST-MODIFIED:20240519T223045Z
UID:485-1723831200-1723831200@gregbaerns.com
SUMMARY:Greg at Kunjani World Coffeehouse (08/16/2024)
DESCRIPTION:Performing live at Kunjani World Coffee House in Parker CO.
URL:https://gregbaerns.com/event/greg-at-kunjani-world-coffeehouse-08-16-2024/
LOCATION:Kunjani World Coffeehouse\, 10009 Jordan Rd.\, Parker\, CO\, 80134\, United States
END:VEVENT
BEGIN:VEVENT
DTSTART;TZID=America/Denver:20240719T180000
DTEND;TZID=America/Denver:20240719T180000
DTSTAMP:20260423T173756
CREATED:20240519T221113Z
LAST-MODIFIED:20240519T221113Z
UID:483-1721412000-1721412000@gregbaerns.com
SUMMARY:Greg at Kunjani World Coffeehouse (07/19/2024)
DESCRIPTION:Performing live at Kunjani World Coffee House in Parker CO.
URL:https://gregbaerns.com/event/greg-at-kunjani-world-coffeehouse-07-19-2024/
LOCATION:Kunjani World Coffeehouse\, 10009 Jordan Rd.\, Parker\, CO\, 80134\, United States
END:VEVENT
BEGIN:VEVENT
DTSTART;TZID=America/Denver:20240621T180000
DTEND;TZID=America/Denver:20240621T180000
DTSTAMP:20260423T173756
CREATED:20240519T220546Z
LAST-MODIFIED:20240519T220546Z
UID:481-1718992800-1718992800@gregbaerns.com
SUMMARY:Greg at Kunjani World Coffeehouse (06/21/2024)
DESCRIPTION:Performing live at Kunjani World Coffee House in Parker CO.
URL:https://gregbaerns.com/event/greg-at-kunjani-world-coffeehouse-06-21-2024/
LOCATION:Kunjani World Coffeehouse\, 10009 Jordan Rd.\, Parker\, CO\, 80134\, United States
END:VEVENT
BEGIN:VEVENT
DTSTART;TZID=America/Denver:20240616T144500
DTEND;TZID=America/Denver:20240616T154500
DTSTAMP:20260423T173756
CREATED:20240508T012926Z
LAST-MODIFIED:20240508T021210Z
UID:431-1718549100-1718552700@gregbaerns.com
SUMMARY:Greg at Parker Days Festival (06/16/2024)
DESCRIPTION:I’ll be doing a 45 minute set at Parker Days 2024 on the Community Stage.\n\n\n \nMy daughters will also be singing a few songs! We would love your support!\n\n\n \nThe stage is located between the white chapel (Ruth Chapel) and the old school house.\n\n\n \nFull Community Stage schedule***\, Friday through Sunday. Come support all of the performers!\n\n\n \nFriday16:00 Freebirds17:00 Allegro Rock Bank Camp18:30 Kyle Chatam and Road Shots\n\n \nSaturday10:00 Aerial Arts11:00 E & E Dance Group11:45 Ultimate Z12:30 School of Rock14:00 Ukuele Play Along – Open to Public14:30 Allegro Music Showcase16:00 Pickering Creative Artists Academy17:30 Playback Band19:00 Blues 88 Jazz Band\n\n \nSunday10:00 Ultimate Z10:15 Dancin Deam10:45 TBA11:45 The Spot 2.013:00 School of Rock14:45 Baerns Sister with Greg15:45 Bearistotle17:00 Castle Rock Rockers18:00 Joe Wren Band  \nThank you Allegro Music for being a sponsor of the community stage along with CORE! \n***Subject to change.
URL:https://gregbaerns.com/event/greg-at-parker-days-festival-06-16-2024/
LOCATION:Parker Days Festival\, 19590 Mainstreet\, Parker\, CO\, 80138\, United States
END:VEVENT
BEGIN:VEVENT
DTSTART;TZID=America/Denver:20240608T180000
DTEND;TZID=America/Denver:20240608T210000
DTSTAMP:20260423T173756
CREATED:20240413T150147Z
LAST-MODIFIED:20240415T033943Z
UID:89-1717869600-1717880400@gregbaerns.com
SUMMARY:Greg at Rail Yard Gaming + Gastropub (06/08/2024)
DESCRIPTION:Performing live at the Rail Yard Gaming + Gastropub in Colorado Springs. \nFrom the venue website:\n“Welcome to the Rail Yard Gaming + Gastropub\, Colorado Springs’s first social gaming pub and grill! We invite you to come experience the fun of new cutting-edge gaming technology along with classic arcade games. You and your friends can also have a blast smashing pins on one of our eight duckpin bowling lanes! Rail Yard offers a full bar featuring local craft beers\, mixed cocktails and carefully selected wines\, as well as an extensive menu from our full-service kitchen\, including decadent award-winning desserts! You can also enjoy the newest first-run movies next door at our sister venue\, RoadHouse Cinemas! Open 365 days a year!”
URL:https://gregbaerns.com/event/greg-at-rail-yard-gaming-gastropub-06-08-2024/
LOCATION:Rail Yard Gaming and Gastropub\, 3030 N Nevada Ave.\, Colorado Springs\, 80907\, United States
END:VEVENT
BEGIN:VEVENT
DTSTART;TZID=America/Denver:20240517T180000
DTEND;TZID=America/Denver:20240517T200000
DTSTAMP:20260423T173756
CREATED:20240128T063000Z
LAST-MODIFIED:20240327T074107Z
UID:65-1715968800-1715976000@gregbaerns.com
SUMMARY:Greg at Kunjani World Coffeehouse (05/17/2024)
DESCRIPTION:Performing live at Kunjani World Coffee House in Parker CO.
URL:https://gregbaerns.com/event/greg-at-kunjani-world-coffeehouse-05-17-2024/
LOCATION:Kunjani World Coffeehouse\, 10009 Jordan Rd.\, Parker\, CO\, 80134\, United States
END:VEVENT
BEGIN:VEVENT
DTSTART;TZID=America/Denver:20240327T180000
DTEND;TZID=America/Denver:20240327T210000
DTSTAMP:20260423T173756
CREATED:20240327T073835Z
LAST-MODIFIED:20240415T013514Z
UID:72-1711562400-1711573200@gregbaerns.com
SUMMARY:Greg at Rail Yard Gaming + Gastropub (03/30/2024)
DESCRIPTION:Performing at the Rail Yard Gaming + Gastropub in Colorado Springs. \nFrom the venue website:\n“Welcome to the Rail Yard Gaming + Gastropub\, Colorado Springs’s first social gaming pub and grill! We invite you to come experience the fun of new cutting-edge gaming technology along with classic arcade games. You and your friends can also have a blast smashing pins on one of our eight duckpin bowling lanes! Rail Yard offers a full bar featuring local craft beers\, mixed cocktails and carefully selected wines\, as well as an extensive menu from our full-service kitchen\, including decadent award-winning desserts! You can also enjoy the newest first-run movies next door at our sister venue\, RoadHouse Cinemas! Open 365 days a year!”
URL:https://gregbaerns.com/event/greg-at-rail-yard-gaming-gastropub-03-30-2024-2/
LOCATION:Rail Yard Gaming and Gastropub\, 3030 N Nevada Ave.\, Colorado Springs\, 80907\, United States
END:VEVENT
BEGIN:VEVENT
DTSTART;TZID=UTC:20240223T180000
DTEND;TZID=UTC:20240223T210000
DTSTAMP:20260423T173756
CREATED:20240128T062733Z
LAST-MODIFIED:20240128T062956Z
UID:63-1708711200-1708722000@gregbaerns.com
SUMMARY:Greg at Rail Yard Gaming + Gastropub (02/23/2024)
DESCRIPTION:Performing at the Rail Yard Gaming + Gastropub in Colorado Springs. \nFrom the venue website:\n“Welcome to the Rail Yard Gaming + Gastropub\, Colorado Springs’s first social gaming pub and grill! We invite you to come experience the fun of new cutting-edge gaming technology along with classic arcade games. You and your friends can also have a blast smashing pins on one of our eight duckpin bowling lanes! Rail Yard offers a full bar featuring local craft beers\, mixed cocktails and carefully selected wines\, as well as an extensive menu from our full-service kitchen\, including decadent award-winning desserts! You can also enjoy the newest first-run movies next door at our sister venue\, RoadHouse Cinemas! Open 365 days a year!”
URL:https://gregbaerns.com/event/greg-at-rail-yard-gaming-gastropub-02-23-2024/
LOCATION:Rail Yard Gaming and Gastropub\, 3030 N Nevada Ave.\, Colorado Springs\, 80907\, United States
END:VEVENT
BEGIN:VEVENT
DTSTART;TZID=UTC:20231216T180000
DTEND;TZID=UTC:20231216T210000
DTSTAMP:20260423T173756
CREATED:20231206T071508Z
LAST-MODIFIED:20231206T071508Z
UID:13-1702749600-1702760400@gregbaerns.com
SUMMARY:Greg at Rail Yard Gaming + Gastropub (12/16/2023)
DESCRIPTION:Performing at the Rail Yard Gaming + Gastropub in Colorado Springs. \nFrom the venue website:\n“Welcome to the Rail Yard Gaming + Gastropub\, Colorado Springs’s first social gaming pub and grill! We invite you to come experience the fun of new cutting-edge gaming technology along with classic arcade games. You and your friends can also have a blast smashing pins on one of our eight duckpin bowling lanes! Rail Yard offers a full bar featuring local craft beers\, mixed cocktails and carefully selected wines\, as well as an extensive menu from our full-service kitchen\, including decadent award-winning desserts! You can also enjoy the newest first-run movies next door at our sister venue\, RoadHouse Cinemas! Open 365 days a year!”
URL:https://gregbaerns.com/event/greg-at-rail-yard-gaming-gastropub-12-16-2023/
LOCATION:Rail Yard Gaming and Gastropub\, 3030 N Nevada Ave.\, Colorado Springs\, 80907\, United States
END:VEVENT
BEGIN:VEVENT
DTSTART;TZID=UTC:20231027T180000
DTEND;TZID=UTC:20231027T210000
DTSTAMP:20260423T173756
CREATED:20231213T090309Z
LAST-MODIFIED:20231213T090309Z
UID:45-1698429600-1698440400@gregbaerns.com
SUMMARY:Greg at Rail Yard Gaming + Gastropub (10/27/2023)
DESCRIPTION:Performing at the Rail Yard Gaming + Gastropub in Colorado Springs. \nFrom the venue website:\n“Welcome to the Rail Yard Gaming + Gastropub\, Colorado Springs’s first social gaming pub and grill! We invite you to come experience the fun of new cutting-edge gaming technology along with classic arcade games. You and your friends can also have a blast smashing pins on one of our eight duckpin bowling lanes! Rail Yard offers a full bar featuring local craft beers\, mixed cocktails and carefully selected wines\, as well as an extensive menu from our full-service kitchen\, including decadent award-winning desserts! You can also enjoy the newest first-run movies next door at our sister venue\, RoadHouse Cinemas! Open 365 days a year!”
URL:https://gregbaerns.com/event/greg-at-rail-yard-gaming-gastropub-10-27-2023/
LOCATION:Rail Yard Gaming and Gastropub\, 3030 N Nevada Ave.\, Colorado Springs\, 80907\, United States
END:VEVENT
END:VCALENDAR